BEGIN:VCALENDAR
VERSION:2.0
PRODID:-//Chanhassen AutoPlex - ECPv6.15.20//NONSGML v1.0//EN
CALSCALE:GREGORIAN
METHOD:PUBLISH
X-WR-CALNAME:Chanhassen AutoPlex
X-ORIGINAL-URL:https://chanhassenautoplex.com
X-WR-CALDESC:Events for Chanhassen AutoPlex
REFRESH-INTERVAL;VALUE=DURATION:PT1H
X-Robots-Tag:noindex
X-PUBLISHED-TTL:PT1H
BEGIN:VTIMEZONE
TZID:America/Chicago
BEGIN:DAYLIGHT
TZOFFSETFROM:-0600
TZOFFSETTO:-0500
TZNAME:CDT
DTSTART:20240310T080000
END:DAYLIGHT
BEGIN:STANDARD
TZOFFSETFROM:-0500
TZOFFSETTO:-0600
TZNAME:CST
DTSTART:20241103T070000
END:STANDARD
BEGIN:DAYLIGHT
TZOFFSETFROM:-0600
TZOFFSETTO:-0500
TZNAME:CDT
DTSTART:20250309T080000
END:DAYLIGHT
BEGIN:STANDARD
TZOFFSETFROM:-0500
TZOFFSETTO:-0600
TZNAME:CST
DTSTART:20251102T070000
END:STANDARD
BEGIN:DAYLIGHT
TZOFFSETFROM:-0600
TZOFFSETTO:-0500
TZNAME:CDT
DTSTART:20260308T080000
END:DAYLIGHT
BEGIN:STANDARD
TZOFFSETFROM:-0500
TZOFFSETTO:-0600
TZNAME:CST
DTSTART:20261101T070000
END:STANDARD
END:VTIMEZONE
BEGIN:VEVENT
DTSTART;TZID=America/Chicago:20250927T090000
DTEND;TZID=America/Chicago:20250927T130000
DTSTAMP:20260421T175027
CREATED:20250528T014444Z
LAST-MODIFIED:20250528T014444Z
UID:3193-1758963600-1758978000@chanhassenautoplex.com
SUMMARY:Cars And Caves September 2025
DESCRIPTION:Join us for the final Cars and Caves of 2025 on September 27th\,2025 monthly car show of 2025. held at the world-famous Chanhassen AutoPlex in Minnesota! This September\, immerse yourself in a stunning showcase of classic\, collector\, muscle\, antique\, street rod\, and exotic vehicles\, alongside vintage motorcycles. \nThis month\, the center of the AutoPlex will be will celebrate everything German for our annual Oktoberfest event featuring the finest German automobiles: Audi\, BMW\, Mercedes\, Porsche\, VW\, and more! Indulge in delicious German food and drinks as you explore this car lover’s paradise. Cars and Caves offers a captivating blend of automotive passion\, breathtaking vehicles\, and a unique opportunity to explore the Chanhassen AutoPlex’s famous car condos. \nJust a short 20-minute drive from Minneapolis/St. Paul\, the Chanhassen AutoPlex is globally recognized for its incredible car condos\, and many of our 120 garage condominiums will be open for viewing. Coffee\, beverages\, and food will be available for purchase. Don’t miss out on this unforgettable event! \nLike all Chanhassen AutoPlex events\, the September 2025 Cars & Caves car show is a family-friendly event that is free and open to the public. \nShow Car Criteria \n\nAll collector\, muscle\, antique\, street rod\, exotic vehicles\, and vintage motorcycles are welcome. The following car classes are admitted into the show area: \n\nClassic cars: Cars manufactured between 1925 and 1948 are still in original or restored condition.\nCollector cars: Cars that are at least 25 years old and have been restored or maintained in their original condition.\nMuscle cars: High-performance American-made cars produced between the mid-1960s and early 1970s.\nAntique cars: Cars that are at least 45 years old and are in original or restored condition.\nStreet rods: Custom-built cars that resemble cars from the 1930s and 1940s.\nExotic vehicles: High-performance sports and luxury vehicles are typically rare and expensive.\nVintage motorcycles: Motorcycles that are at least 35 years old and are in original or restored condition.\n\nNOTE: Due to limited space\, we can only allow vintage or exotic import cars. All other import cars will be asked to park in spectator areas. \nPlease ensure that your vehicle is clean\, polished\, and free of damage or rust. We also ask that you arrive early to ensure that you have enough time to park and set up. Gates open at 8:30 am. \nIf you’re a car enthusiast but don’t have a vehicle that fits into one of these categories\, don’t worry! The public is welcome to spectate the event and drive their everyday car. We will have plenty of space for parking and viewing the show\, so feel free to come and enjoy the day with us. \nVolunteers Needed \n\nIf you are interested in helping put this car show on or learning about events\, please contact volunteer@carsandcavesmn.com. \n\n2025 Show Sponsors \n\n  \n\n\nTint Works\nVolt Coatings\nThe Canopy Groupv\nRefresh Exteriors\nThe Hide Outs\nLaMettry’s Collision\nEnterprise Exotic Rental\nAutomotive Concepts\nNicolet Bank\nSamaritan Tire\n\nIf you are interested in sponsoring Cars & Caves please contact sponsors@carsandcavesmn.com \n  \nCharitable Partner \n\nFeatured Charity: Chanhassen Fire Department \nJoin us the last Saturday of September from 9 am to 1 pm\, rain or shine\, for an unforgettable car show experience.
URL:https://chanhassenautoplex.com/event/cars-and-caves-september-2025/
LOCATION:Chanhassen AutoPlex\, 8150 Audubon Rd\, Chanhassen\, MN\, 55317\, United States
CATEGORIES:Cars and Caves,Cars Shows,Public
ATTACH;FMTTYPE=image/jpeg:https://chanhassenautoplex.com/wp-content/uploads/2023/05/cars_caves_chanhassen_2023_04_68.jpg
END:VEVENT
END:VCALENDAR