BEGIN:VCALENDAR
VERSION:2.0
PRODID:-//Chanhassen AutoPlex - ECPv6.15.20//NONSGML v1.0//EN
CALSCALE:GREGORIAN
METHOD:PUBLISH
X-WR-CALNAME:Chanhassen AutoPlex
X-ORIGINAL-URL:https://chanhassenautoplex.com
X-WR-CALDESC:Events for Chanhassen AutoPlex
REFRESH-INTERVAL;VALUE=DURATION:PT1H
X-Robots-Tag:noindex
X-PUBLISHED-TTL:PT1H
BEGIN:VTIMEZONE
TZID:America/Chicago
BEGIN:DAYLIGHT
TZOFFSETFROM:-0600
TZOFFSETTO:-0500
TZNAME:CDT
DTSTART:20230312T080000
END:DAYLIGHT
BEGIN:STANDARD
TZOFFSETFROM:-0500
TZOFFSETTO:-0600
TZNAME:CST
DTSTART:20231105T070000
END:STANDARD
BEGIN:DAYLIGHT
TZOFFSETFROM:-0600
TZOFFSETTO:-0500
TZNAME:CDT
DTSTART:20240310T080000
END:DAYLIGHT
BEGIN:STANDARD
TZOFFSETFROM:-0500
TZOFFSETTO:-0600
TZNAME:CST
DTSTART:20241103T070000
END:STANDARD
BEGIN:DAYLIGHT
TZOFFSETFROM:-0600
TZOFFSETTO:-0500
TZNAME:CDT
DTSTART:20250309T080000
END:DAYLIGHT
BEGIN:STANDARD
TZOFFSETFROM:-0500
TZOFFSETTO:-0600
TZNAME:CST
DTSTART:20251102T070000
END:STANDARD
END:VTIMEZONE
BEGIN:VEVENT
DTSTART;TZID=America/Chicago:20240915T100000
DTEND;TZID=America/Chicago:20240915T160000
DTSTAMP:20260424T165350
CREATED:20240509T162920Z
LAST-MODIFIED:20240509T162920Z
UID:3035-1726394400-1726416000@chanhassenautoplex.com
SUMMARY:The 10\,000 Lakes Concours d’Elegance Returns For 2024
DESCRIPTION:The 10\,000 Lakes Concours d’Elegance Returns For 2024. Get ready to rev your engines\, fellow car lovers! The prestigious 10\,000 Lakes Concours d’Elegance is back after a brief hiatus\, and it promises to be bigger and better than ever. Mark your calendars for Sunday\, September 15\, 2024\, and prepare to be amazed by a stunning display of automotive history and elegance. \nThis year\, the event moves to the sprawling green infield of Canterbury Park in Shakopee\, Minnesota. From 10 am to 4 pm\, you’ll have the opportunity to wander among over 125 meticulously curated vehicles\, each boasting a unique story and representing a significant piece of automotive history. \nConcours d’Elegance In Minnesota? \nYou betcha… A Concours\, which translates to “competition of elegance” in French\, is a prestigious event where exceptionally rare and pristine automobiles are displayed and judged for their historical accuracy\, technical merit\, and overall beauty. It’s not just a car show; it’s a celebration of automotive heritage\, craftsmanship\, and design. \nWhat Is A Concours d’Elegance? \n\nExclusivity: Minnesota and the Midwest region are home to many great collectors. The selection committee will choose the best of the best from the nominations that have been submitted in the respective categories. These can range from vintage classics and rare sports cars to meticulously restored antique vehicles.\nPrestige and History: Many Concours d’Elegance events boast a long and rich history\, attracting car collectors\, enthusiasts\, and industry professionals from around the world.\nOriginality and Authenticity: How closely the car adheres to its original factory specifications and condition.\nRestoration Quality: The level of craftsmanship and attention to detail in any restoration work.\nCondition: The overall physical state of the car\, including paint\, interior\, engine\, and undercarriage.\nElegance and Design: The aesthetic appeal and historical significance of the car’s design.\n\nMore Than Just Cars: \nWhile the focus is on exquisite automobiles\, the 10\,000 Lakes Concours d’Elegance offers something for everyone. Feast your eyes on a collection of historic motorcycles\, tractors\, and other farm equipment. Enjoy live music\, indulge in delicious food and drinks\, and browse through the offerings of local artists and vendors. There’s even a dedicated children’s play area to keep the little ones entertained. \nSupporting a Worthy Cause: \nBy attending this event\, you’ll not only be treating yourself to a day of automotive splendor but also contributing to a noble cause. Proceeds from the 10\,000 Lakes Concours d’Elegance will benefit Gillette Children’s\, a renowned healthcare institution dedicated to improving the lives of children with complex medical conditions. \nDon’t Miss Out! \nTickets for this all-day event are $25 per person\, with free admission for children under 16 and active or retired military members. For more information and to secure your tickets\, visit the official event website: 10000lakesconcours.com. \nDon’t forget to check out all the upcoming events on the Chanhassen AutoPlex calendar.
URL:https://chanhassenautoplex.com/event/10000-lakes-concours-delegance-returns-for-2024/
LOCATION:Canterbury Park\, 1100 Canterbury Rd\, Shakopee\, MN\, 55379\, United States
CATEGORIES:Cars Shows,Recommended Event
ATTACH;FMTTYPE=image/jpeg:https://chanhassenautoplex.com/wp-content/uploads/2024/05/10000_lakes_concours_2024_1.jpg
END:VEVENT
END:VCALENDAR