BEGIN:VCALENDAR
VERSION:2.0
PRODID:-//Chanhassen AutoPlex - ECPv6.15.20//NONSGML v1.0//EN
CALSCALE:GREGORIAN
METHOD:PUBLISH
X-ORIGINAL-URL:https://chanhassenautoplex.com
X-WR-CALDESC:Events for Chanhassen AutoPlex
REFRESH-INTERVAL;VALUE=DURATION:PT1H
X-Robots-Tag:noindex
X-PUBLISHED-TTL:PT1H
BEGIN:VTIMEZONE
TZID:America/Chicago
BEGIN:DAYLIGHT
TZOFFSETFROM:-0600
TZOFFSETTO:-0500
TZNAME:CDT
DTSTART:20230312T080000
END:DAYLIGHT
BEGIN:STANDARD
TZOFFSETFROM:-0500
TZOFFSETTO:-0600
TZNAME:CST
DTSTART:20231105T070000
END:STANDARD
BEGIN:DAYLIGHT
TZOFFSETFROM:-0600
TZOFFSETTO:-0500
TZNAME:CDT
DTSTART:20240310T080000
END:DAYLIGHT
BEGIN:STANDARD
TZOFFSETFROM:-0500
TZOFFSETTO:-0600
TZNAME:CST
DTSTART:20241103T070000
END:STANDARD
BEGIN:DAYLIGHT
TZOFFSETFROM:-0600
TZOFFSETTO:-0500
TZNAME:CDT
DTSTART:20250309T080000
END:DAYLIGHT
BEGIN:STANDARD
TZOFFSETFROM:-0500
TZOFFSETTO:-0600
TZNAME:CST
DTSTART:20251102T070000
END:STANDARD
END:VTIMEZONE
BEGIN:VEVENT
DTSTART;TZID=America/Chicago:20240717T170000
DTEND;TZID=America/Chicago:20240717T200000
DTSTAMP:20260424T072040
CREATED:20240115T074714Z
LAST-MODIFIED:20240213T165101Z
UID:2952-1721235600-1721246400@chanhassenautoplex.com
SUMMARY:Summer Nights Car Show July 2024
DESCRIPTION:The July 2024 Summer Nights car show is a fun\, family-friendly event at the Chanhassen AutoPlex\, happens July 17th\, 2024. Drive your classic\, custom\, any-year muscle\, or exotic car to this mid-week show and enjoy a nice Minnesota Summer night with new and old friends. \nSpectator parking inside the Chanhassen AutoPlex campus. \nFood vendors to be determined. \nIn 2024\, there is an added purpose to our events: to raise funds and awareness for the fight against Alzheimer’s disease. We have set up a Longest Day Fundraiser page\, where you can donate directly to our efforts to end Alzheimer’s. Every dollar raised will help provide care and support to those affected by this devastating disease. To learn more about Alzheimer’s\, get resources\, or start your own Longest Day Fundraiser\, visit alz.org/mnnd \nVisit the main Summer Nights car show page for complete details.
URL:https://chanhassenautoplex.com/event/summer-nights-car-show-july-2024/
LOCATION:Chanhassen AutoPlex\, 8150 Audubon Rd\, Chanhassen\, MN\, 55317\, United States
CATEGORIES:Cars Shows,Public,Summer Nights
END:VEVENT
END:VCALENDAR