BEGIN:VCALENDAR
VERSION:2.0
PRODID:-//Chanhassen AutoPlex - ECPv6.15.18//NONSGML v1.0//EN
CALSCALE:GREGORIAN
METHOD:PUBLISH
X-WR-CALNAME:Chanhassen AutoPlex
X-ORIGINAL-URL:https://chanhassenautoplex.com
X-WR-CALDESC:Events for Chanhassen AutoPlex
REFRESH-INTERVAL;VALUE=DURATION:PT1H
X-Robots-Tag:noindex
X-PUBLISHED-TTL:PT1H
BEGIN:VTIMEZONE
TZID:America/Chicago
BEGIN:DAYLIGHT
TZOFFSETFROM:-0600
TZOFFSETTO:-0500
TZNAME:CDT
DTSTART:20170312T080000
END:DAYLIGHT
BEGIN:STANDARD
TZOFFSETFROM:-0500
TZOFFSETTO:-0600
TZNAME:CST
DTSTART:20171105T070000
END:STANDARD
BEGIN:DAYLIGHT
TZOFFSETFROM:-0600
TZOFFSETTO:-0500
TZNAME:CDT
DTSTART:20180311T080000
END:DAYLIGHT
BEGIN:STANDARD
TZOFFSETFROM:-0500
TZOFFSETTO:-0600
TZNAME:CST
DTSTART:20181104T070000
END:STANDARD
BEGIN:DAYLIGHT
TZOFFSETFROM:-0600
TZOFFSETTO:-0500
TZNAME:CDT
DTSTART:20190310T080000
END:DAYLIGHT
BEGIN:STANDARD
TZOFFSETFROM:-0500
TZOFFSETTO:-0600
TZNAME:CST
DTSTART:20191103T070000
END:STANDARD
END:VTIMEZONE
BEGIN:VTIMEZONE
TZID:UTC
BEGIN:STANDARD
TZOFFSETFROM:+0000
TZOFFSETTO:+0000
TZNAME:UTC
DTSTART:20170101T000000
END:STANDARD
END:VTIMEZONE
BEGIN:VEVENT
DTSTART;TZID=America/Chicago:20180929T080000
DTEND;TZID=America/Chicago:20180929T120000
DTSTAMP:20260419T202707
CREATED:20180305T171817Z
LAST-MODIFIED:20180919T182307Z
UID:2043-1538208000-1538222400@chanhassenautoplex.com
SUMMARY:September Cars and Caves
DESCRIPTION:Cars and Caves car shows run from 8:00 AM to 12:00 Noon. Drive your collector\, classic or exotic car or motorcycle in to display. Get here early for limited on-site parking with your family car. Coffee and food are available. \n\n\n\nAs the car show season unwinds\, the Chanhassen AutoPlex is firing up. Cars and Caves and the Chanhassen fire department are teaming up to heat things up for a season finale show on Saturday\, September 29 from 8a.m. to noon. \n\n\n\n\n“We expect banner numbers of show cars and motor enthusiasts for the final show of a fun\, successful season\,” says show committee chair Tony Mertes.The Chanhassen Fire Department crew will be on site with Sparky the Dalmatian to give tours of their fire engines and offer hands-on fire safety demonstrations. \n\n\n\n\n“There will be plenty of photo opportunities and ways the public can drop a buck in their boots to say thank you and boost their fundraising efforts\, says Mertes.” \n\n\n\n\nThe show is free of charge for cars and spectators—a unique aspect its organizers have kept in tact for two years and plan to continue. The organizers? The AutoPlex’s very own garage owners who want to share their unique community with others—to support a cause. \n\n\n\n\nBret Bailey\, The AutoPlex’s association president says\, ”The charity aspect of our show is important to us. We could easily make money if we choose\, but would rather give it back to the community.” \n\n\n\n\nThis season\, 100 percent of $16\,000 raised through on-site donations has supported area non-profits including Ronald McDonald House Charities\, RIValz Twin Cities\, Shriner’s Hospital Twin Cities\, Cody’s Heroes and Happy Tails. \n\n\n\n\nBailey says he’s pleased with the quality size of the show\, the family-friendly feel and the increased participation of fellow garage owners willing to share their automobila. \n\n\n\n\nTheir jaw dropping garage condos\, known as “caves\,” house some of the most unusual collections in the state. From the Batmobile and mini cork car to a 55 Chevy. There’s no shortage of cool-on-wheels that can drive anyone’s interest. \n\n\nSome 2018 Season highlights included a WWII airplane flyover Military Appreciation show and several car club drive-ins. Looking ahead to next season\, the Cars and Caves show organizers plan to double the volume of show cars and hire St Louis Park-based creative agency Nemer Fieger to help them accomplish that goal. \n\n“We’re thrilled to hand over the show promotion and production responsibilities so we can kick back and mingle at next year’s shows\,” Mertes says. The 2019 Cars and Caves season will run the last Saturday each month from April-September.\nPress Release
URL:https://chanhassenautoplex.com/event/september-cars-and-caves/
LOCATION:Chanhassen AutoPlex\, 8150 Audubon Rd\, Chanhassen\, MN\, 55317\, United States
CATEGORIES:Cars and Caves,Cars Shows
ATTACH;FMTTYPE=image/jpeg:https://chanhassenautoplex.com/wp-content/uploads/2018/01/CarsAndCaves106-5-of-18.jpg
END:VEVENT
BEGIN:VEVENT
DTSTART;TZID=America/Chicago:20180928T170000
DTEND;TZID=America/Chicago:20180928T190000
DTSTAMP:20260419T202707
CREATED:20180305T173221Z
LAST-MODIFIED:20180305T173221Z
UID:2055-1538154000-1538161200@chanhassenautoplex.com
SUMMARY:Sept Happy Hour
DESCRIPTION:Owners Only Event — \nCome join the fun at the Happy Hour. \nLocation and time TBD. \nBYOB
URL:https://chanhassenautoplex.com/event/sept-happy-hour/
LOCATION:Chanhassen AutoPlex\, 8150 Audubon Rd\, Chanhassen\, MN\, 55317\, United States
CATEGORIES:Private
END:VEVENT
BEGIN:VEVENT
DTSTART;TZID=America/Chicago:20180913T170000
DTEND;TZID=America/Chicago:20180913T200000
DTSTAMP:20260419T202707
CREATED:20180327T185205Z
LAST-MODIFIED:20180409T151943Z
UID:2123-1536858000-1536868800@chanhassenautoplex.com
SUMMARY:Thirsty Thursday - September
DESCRIPTION:Members are invited to stop by the clubhouse for Thirsty Thursday on the the second Thursday of every month to share a beverage and have casual garage talk.  No RSVP needed.  Feel free to invite a friend. \nBYOB – \nSnacks will be provided.
URL:https://chanhassenautoplex.com/event/thirsty-thursday-september/
LOCATION:Clubhouse\, Chanhassen AutoPlex
CATEGORIES:Private
END:VEVENT
BEGIN:VEVENT
DTSTART;TZID=America/Chicago:20180912T170000
DTEND;TZID=America/Chicago:20180912T200000
DTSTAMP:20260419T202707
CREATED:20180304T200042Z
LAST-MODIFIED:20180306T154132Z
UID:2035-1536771600-1536782400@chanhassenautoplex.com
SUMMARY:Summer Nights at the AutoPlex
DESCRIPTION:Wednesday night!  Drive your classic\, custom\, or exotic car to this mid-week show and enjoy a nice Minnesota summer night with new and old friends. \nFood trucks will be available.
URL:https://chanhassenautoplex.com/event/summer-nights-at-the-autoplex-4/
LOCATION:Chanhassen AutoPlex\, 8150 Audubon Rd\, Chanhassen\, MN\, 55317\, United States
CATEGORIES:Cars Shows,Public,Summer Nights
ATTACH;FMTTYPE=image/jpeg:https://chanhassenautoplex.com/wp-content/uploads/2018/03/AMP-XK120-Copy.jpg
END:VEVENT
BEGIN:VEVENT
DTSTART;TZID=UTC:20180825T080000
DTEND;TZID=UTC:20180825T120000
DTSTAMP:20260419T202707
CREATED:20180131T010121Z
LAST-MODIFIED:20180813T190015Z
UID:1750-1535184000-1535198400@chanhassenautoplex.com
SUMMARY:August Cars and Caves
DESCRIPTION:Cars and Caves car shows run from 8:00 AM to 12:00 Noon. Drive your collector\, classic or exotic car or motorcycle in to display. Get here early for limited on-site parking with your family car. Coffee and food are available. \nCars and Caves Car Show to raise money for Ronald McDonald House   \nWhen a child’s health is at risk\, a family’s world can feel like it’s falling apart. That’s why the Chanhassen AutoPlex has teamed up with Ronald McDonald House Charities  to host a FUN raiser Saturday\, August 25\, 8a.m. to 12p.m. to benefit families with seriously ill children. \n“By capitalizing on the popularity of our car shows\, I believe we can help alleviate the financial burden and stress for many Twin Cities families\,” said show Committee Chair Tony Mertes. \nOne hundred percent of proceeds from The Cars and Caves Show will go immediately to serving families supported by one of the four Ronald McDonald House Twin Cities locations. \n“Our free show is a favorite among locals and Southwest Metro visitors with its open-air setting and casual ambience\,” said Elaine Wilson\, Chanhassen AutoPlex community relations. “Bring your show car and your family and friends for a memorable car lovers’ get together supporting a good cause.” \nShow car owners and spectators are encouraged to  park on site and view hundreds of unique muscle\, exotic\, classic\, custom and antique cars from the area together in one place.” \nBesides music\, prizes\, food for purchase\, games and photos with Batman or Scooby Doo\, the public is invited to tour some of the lavish garage condos on site. \nPress Release: Press Release_Aug25 show_RMHC \n 
URL:https://chanhassenautoplex.com/event/august-cars-and-caves/
LOCATION:Chanhassen AutoPlex\, 8150 Audubon Rd\, Chanhassen\, MN\, 55317\, United States
CATEGORIES:Cars and Caves,Cars Shows
ATTACH;FMTTYPE=image/jpeg:https://chanhassenautoplex.com/wp-content/uploads/2018/01/CarsAndCaves106-3-of-18.jpg
END:VEVENT
BEGIN:VEVENT
DTSTART;TZID=America/Chicago:20180824T170000
DTEND;TZID=America/Chicago:20180824T190000
DTSTAMP:20260419T202707
CREATED:20180305T173103Z
LAST-MODIFIED:20180305T173103Z
UID:2053-1535130000-1535137200@chanhassenautoplex.com
SUMMARY:August Happy Hour
DESCRIPTION:Owners Only Event — \nCome join the fun at the Happy Hour. \nLocation and time TBD. \nBYOB
URL:https://chanhassenautoplex.com/event/august-happy-hour/
LOCATION:Chanhassen AutoPlex\, 8150 Audubon Rd\, Chanhassen\, MN\, 55317\, United States
CATEGORIES:Private
END:VEVENT
BEGIN:VEVENT
DTSTART;TZID=UTC:20180815T170000
DTEND;TZID=UTC:20180815T200000
DTSTAMP:20260419T202707
CREATED:20180131T011439Z
LAST-MODIFIED:20180208T162412Z
UID:1757-1534352400-1534363200@chanhassenautoplex.com
SUMMARY:Summer Nights at the AutoPlex
DESCRIPTION:Wednesday night!  Drive your classic\, custom\, or exotic car to this mid-week show and enjoy a nice Minnesota summer night with new and old friends. \nFood trucks will be available.
URL:https://chanhassenautoplex.com/event/summer-nights-at-the-autoplex-3/
LOCATION:Chanhassen AutoPlex\, 8150 Audubon Rd\, Chanhassen\, MN\, 55317\, United States
CATEGORIES:Cars Shows,Summer Nights
ATTACH;FMTTYPE=image/jpeg:https://chanhassenautoplex.com/wp-content/uploads/2017/11/auto-plex-118-of-191.jpg
END:VEVENT
BEGIN:VEVENT
DTSTART;TZID=America/Chicago:20180809T170000
DTEND;TZID=America/Chicago:20180809T200000
DTSTAMP:20260419T202707
CREATED:20180327T185017Z
LAST-MODIFIED:20180409T152023Z
UID:2121-1533834000-1533844800@chanhassenautoplex.com
SUMMARY:Thirsty Thursday - August
DESCRIPTION:Members are invited to stop by the clubhouse for Thirsty Thursday on the the second Thursday of every month to share a beverage and have casual garage talk.  No RSVP needed.  Feel free to invite a friend. \nBYOB – \nSnacks will be provided.
URL:https://chanhassenautoplex.com/event/thirsty-thursday-august/
LOCATION:Clubhouse\, Chanhassen AutoPlex
CATEGORIES:Private
END:VEVENT
BEGIN:VEVENT
DTSTART;TZID=America/Chicago:20180728T080000
DTEND;TZID=America/Chicago:20180728T120000
DTSTAMP:20260419T202707
CREATED:20180112T055447Z
LAST-MODIFIED:20180719T185349Z
UID:1716-1532764800-1532779200@chanhassenautoplex.com
SUMMARY:July Cars and Caves
DESCRIPTION:Show your colors at the July Cars and Caves car show. \nStarting at 8:00 AM and running until 12:00 Noon. Drive your collector\, classic or exotic car or motorcycle in to display. Get here early for limited on-site parking with your family car. Coffee and food are available.\n \n\n\n\nCars and Caves Teams up with RivALZ Twin Cities to battle Alzheimer’s July 28 \n\n\n\n\nThe Chanhassen AutoPlex Cars and Caves show has teamed up with RivALZ Twin Cities to benefit the care\, support and research efforts of the Alzheimer’s association. “By capitalizing on the popularity of our car shows\, I believe we can positively impact the fight against Alzheimer’s disease\,” said Show Committee Chair Tony Mertes. \n\n\n\n\nThe event brings together two unique communities — car lovers of all ages and young professionals who play friendly but fierce flag football games around the country to inspire fundraising. One hundred percent of proceeds from Saturday’s show will be donated to the Alzheimer’s Association. “We’re all on the same team when it comes to helping patients and their families like mine impacted by Alzheimer’s\,” says Ashley Addison\, Chair for RivALZ. \nPress Release: July 28 Cars and Caves Show
URL:https://chanhassenautoplex.com/event/july-cars-and-caves/
LOCATION:Chanhassen AutoPlex\, 8150 Audubon Rd\, Chanhassen\, MN\, 55317\, United States
CATEGORIES:Cars and Caves,Cars Shows
ATTACH;FMTTYPE=image/jpeg:https://chanhassenautoplex.com/wp-content/uploads/2018/01/CarsAndCaves106-1-of-1.jpg
END:VEVENT
BEGIN:VEVENT
DTSTART;TZID=America/Chicago:20180727T170000
DTEND;TZID=America/Chicago:20180727T190000
DTSTAMP:20260419T202707
CREATED:20180305T172248Z
LAST-MODIFIED:20180305T172926Z
UID:2047-1532710800-1532718000@chanhassenautoplex.com
SUMMARY:July Happy Hour
DESCRIPTION:Owners Only Event — \nCome join the fun at the Happy Hour. \nLocation and time TBD. \nBYOB
URL:https://chanhassenautoplex.com/event/july-happy-hour/
LOCATION:Chanhassen AutoPlex\, 8150 Audubon Rd\, Chanhassen\, MN\, 55317\, United States
CATEGORIES:Private
END:VEVENT
BEGIN:VEVENT
DTSTART;TZID=UTC:20180718T170000
DTEND;TZID=UTC:20180718T200000
DTSTAMP:20260419T202707
CREATED:20180131T011257Z
LAST-MODIFIED:20180208T162530Z
UID:1755-1531933200-1531944000@chanhassenautoplex.com
SUMMARY:Summer Nights at the AutoPlex
DESCRIPTION:Wednesday night!  Drive your classic\, custom\, or exotic car to this mid-week show and enjoy a nice Minnesota summer night with new and old friends. \nFood trucks will be available.
URL:https://chanhassenautoplex.com/event/summer-nights-at-the-autoplex-2/
LOCATION:Chanhassen AutoPlex\, 8150 Audubon Rd\, Chanhassen\, MN\, 55317\, United States
CATEGORIES:Cars Shows,Summer Nights
ATTACH;FMTTYPE=image/jpeg:https://chanhassenautoplex.com/wp-content/uploads/2018/01/CarsAndCaves106-15-of-18.jpg
END:VEVENT
BEGIN:VEVENT
DTSTART;TZID=America/Chicago:20180712T170000
DTEND;TZID=America/Chicago:20180712T200000
DTSTAMP:20260419T202707
CREATED:20180327T184856Z
LAST-MODIFIED:20180409T152046Z
UID:2119-1531414800-1531425600@chanhassenautoplex.com
SUMMARY:Thirsty Thursday - July
DESCRIPTION:Members are invited to stop by the clubhouse for Thirsty Thursday on the the second Thursday of every month to share a beverage and have casual garage talk.  No RSVP needed.  Feel free to invite a friend. \nBYOB – \nSnacks will be provided.
URL:https://chanhassenautoplex.com/event/thirsty-thursday-july/
LOCATION:Clubhouse\, Chanhassen AutoPlex
CATEGORIES:Private
END:VEVENT
BEGIN:VEVENT
DTSTART;TZID=America/Chicago:20180630T080000
DTEND;TZID=America/Chicago:20180630T120000
DTSTAMP:20260419T202707
CREATED:20180112T055127Z
LAST-MODIFIED:20180625T224753Z
UID:1714-1530345600-1530360000@chanhassenautoplex.com
SUMMARY:June Cars and Caves
DESCRIPTION:Cars and Caves car shows run from 8:00 AM to 12:00 Noon with the gates opening at 7:30 AM. Drive your collector\, classic or exotic car or motorcycle in to display. Get here early for limited on-site parking with your family car. Coffee and food are available. \nThe June charity cause will be Shriners Hospitals Twin Cities. Donations are not required for entry\, but will be accepted at the gate with 100% of all donations going to the cause. \nThe Studebaker Club is hosting a show within a show hosted by Bob and Kris Krowech. All Studebaker owners are invited to display their cars in the special designated spot regardless of whether or not they are a member of the club. \nPress Release for June 30 show_Shriners
URL:https://chanhassenautoplex.com/event/june-cars-and-caves/
LOCATION:Chanhassen AutoPlex\, 8150 Audubon Rd\, Chanhassen\, MN\, 55317\, United States
CATEGORIES:Cars and Caves,Cars Shows
ATTACH;FMTTYPE=image/jpeg:https://chanhassenautoplex.com/wp-content/uploads/2017/11/auto-plex-24-of-191.jpg
END:VEVENT
BEGIN:VEVENT
DTSTART;TZID=America/Chicago:20180629T170000
DTEND;TZID=America/Chicago:20180629T190000
DTSTAMP:20260419T202707
CREATED:20180305T172122Z
LAST-MODIFIED:20180305T172122Z
UID:2045-1530291600-1530298800@chanhassenautoplex.com
SUMMARY:June Happy Hour
DESCRIPTION:Come join the fun at the Happy Hour. \nLocation and time TBD. \nBYOB
URL:https://chanhassenautoplex.com/event/june-happy-hour/
LOCATION:Chanhassen AutoPlex\, 8150 Audubon Rd\, Chanhassen\, MN\, 55317\, United States
CATEGORIES:Private
END:VEVENT
BEGIN:VEVENT
DTSTART;TZID=UTC:20180620T170000
DTEND;TZID=UTC:20180620T200000
DTSTAMP:20260419T202707
CREATED:20180131T011137Z
LAST-MODIFIED:20180208T162449Z
UID:1752-1529514000-1529524800@chanhassenautoplex.com
SUMMARY:Summer Nights at the AutoPlex
DESCRIPTION:Wednesday night!  Drive your classic\, custom\, or exotic car to this mid-week show and enjoy a nice Minnesota summer night with new and old friends. \nFood trucks will be available.
URL:https://chanhassenautoplex.com/event/summer-nights-at-the-autoplex/
LOCATION:Chanhassen AutoPlex\, 8150 Audubon Rd\, Chanhassen\, MN\, 55317\, United States
CATEGORIES:Cars Shows,Summer Nights
ATTACH;FMTTYPE=image/jpeg:https://chanhassenautoplex.com/wp-content/uploads/2018/01/CarsAndCaves106-4-of-18.jpg
END:VEVENT
BEGIN:VEVENT
DTSTART;TZID=America/Chicago:20180614T170000
DTEND;TZID=America/Chicago:20180614T200000
DTSTAMP:20260419T202707
CREATED:20180327T184452Z
LAST-MODIFIED:20180409T152140Z
UID:2116-1528995600-1529006400@chanhassenautoplex.com
SUMMARY:Thirsty Thursday - June
DESCRIPTION:Members are invited to stop by the clubhouse for Thirsty Thursday on the the second Thursday of every month to share a beverage and have casual garage talk.  No RSVP needed.  Feel free to invite a friend. \nBYOB – \nSnacks will be provided. Should we fire up the grill?
URL:https://chanhassenautoplex.com/event/thirsty-thursday-june/
LOCATION:Clubhouse\, Chanhassen AutoPlex
CATEGORIES:Private
END:VEVENT
BEGIN:VEVENT
DTSTART;TZID=America/Chicago:20180526T080000
DTEND;TZID=America/Chicago:20180526T120000
DTSTAMP:20260419T202707
CREATED:20180112T040159Z
LAST-MODIFIED:20180521T142444Z
UID:1674-1527321600-1527336000@chanhassenautoplex.com
SUMMARY:May Cars and Caves
DESCRIPTION:Cars and Caves car shows run from 8:00 AM to 12:00 Noon. Drive your collector\, classic or exotic car or motorcycle in to display. Get here early for limited on-site parking with your family car. Coffee and food are available. \nSpecial Military Appreciation Car Show Event this week! \nHistoric Military Vehicles: See the M38A1C used in Korea and Vietnam\, the M151A2 & the M422A1 Mighty Mite used in Vietnam\, and more! \nCars & Caves: Explore the variety of mind-blowing man caves and classic\, muscle\, antique\, street rod and exotic cars. \nShow Charity: Visit happy Tails Animal Rescue/Cody’s heroes and meet Army veteran Cody Westphall and his Emotional Support dogs and trainers. \n\n7:30am Gates open! Gather at the Clubhouse:\n8am Honor Guard posts colors\n9:30am Chanhassen mayor Denny Laufenburger speaks\n9:45am Cody Westphall Purple heart recipient/Cody’s Heroes speaks\n10:00am T6 Thunder WWll airplane flyover\n11:00 Door prize drawing for military veterans & active members\n11:15 Door prize drawing for car owners\n12pm Honor Guard retires colors
URL:https://chanhassenautoplex.com/event/may-cars-and-caves/
LOCATION:Chanhassen AutoPlex\, 8150 Audubon Rd\, Chanhassen\, MN\, 55317\, United States
CATEGORIES:Cars and Caves,Cars Shows
ATTACH;FMTTYPE=image/jpeg:https://chanhassenautoplex.com/wp-content/uploads/2018/01/CarsAndCaves106-13-of-18.jpg
END:VEVENT
BEGIN:VEVENT
DTSTART;TZID=America/Chicago:20180525T163000
DTEND;TZID=America/Chicago:20180525T200000
DTSTAMP:20260419T202707
CREATED:20180112T043723Z
LAST-MODIFIED:20180306T151311Z
UID:1700-1527265800-1527278400@chanhassenautoplex.com
SUMMARY:May Happy Hour
DESCRIPTION:Owners Only Event — \nClean your garage and join in the Happy Hour fun! \nDetails are TBD \nBYOB
URL:https://chanhassenautoplex.com/event/social-test/
LOCATION:Chanhassen AutoPlex\, 8150 Audubon Rd\, Chanhassen\, MN\, 55317\, United States
CATEGORIES:Private
END:VEVENT
BEGIN:VEVENT
DTSTART;TZID=America/Chicago:20180510T170000
DTEND;TZID=America/Chicago:20180510T200000
DTSTAMP:20260419T202707
CREATED:20180327T182523Z
LAST-MODIFIED:20180409T152212Z
UID:2109-1525971600-1525982400@chanhassenautoplex.com
SUMMARY:Thirsty Thursday - May
DESCRIPTION:Members are invited to stop by the clubhouse for Thirsty Thursday on the the second Thursday of every month to share a beverage and have casual garage talk.  No RSVP needed.  Feel free to invite a friend. \nBYOB – \nSnacks will be provided. Should we fire up the grill? \n  \n 
URL:https://chanhassenautoplex.com/event/thirsty-thursday-may/
LOCATION:Clubhouse\, Chanhassen AutoPlex
CATEGORIES:Private
END:VEVENT
BEGIN:VEVENT
DTSTART;TZID=America/Chicago:20180406T160000
DTEND;TZID=America/Chicago:20180406T190000
DTSTAMP:20260419T202707
CREATED:20180305T203926Z
LAST-MODIFIED:20180307T003422Z
UID:2059-1523030400-1523041200@chanhassenautoplex.com
SUMMARY:Happy Hour with Bob & Kris
DESCRIPTION:Owners Only Event — \nCome join the fun at the Happy Hour. \nHosted by Bob and Kris Krowech at the Studebaker garage at 1720 Motorplex Ct. #H12 \nBYOB \nPlease RSVP to\n612-396-0748\nor\nkkrowech@comcast.net
URL:https://chanhassenautoplex.com/event/happy-hour-with-bob-kris/
LOCATION:Chanhassen AutoPlex\, 8150 Audubon Rd\, Chanhassen\, MN\, 55317\, United States
CATEGORIES:Private
ATTACH;FMTTYPE=image/jpeg:https://chanhassenautoplex.com/wp-content/uploads/2017/11/auto-plex-24-of-191.jpg
END:VEVENT
BEGIN:VEVENT
DTSTART;TZID=America/Chicago:20180330T160000
DTEND;TZID=America/Chicago:20180330T200000
DTSTAMP:20260419T202707
CREATED:20180226T224529Z
LAST-MODIFIED:20180305T165541Z
UID:2031-1522425600-1522440000@chanhassenautoplex.com
SUMMARY:Happy Hours are Back!
DESCRIPTION:Happy Hour Owner’s Events are back on the schedule. Please check out the Owners Section for more info on dates and times.
URL:https://chanhassenautoplex.com/event/happy-hours-are-back/
LOCATION:MN
CATEGORIES:Social
END:VEVENT
BEGIN:VEVENT
DTSTART;TZID=America/Chicago:20180313T190000
DTEND;TZID=America/Chicago:20180313T203000
DTSTAMP:20260419T202707
CREATED:20180313T160543Z
LAST-MODIFIED:20180313T160543Z
UID:2087-1520967600-1520973000@chanhassenautoplex.com
SUMMARY:Car Show Committee Meeting
DESCRIPTION:All owners are welcome to attend the Car Show Committee meeting on March 13 at 7:00 PM in the clubhouse.
URL:https://chanhassenautoplex.com/event/car-show-committee-meeting/
LOCATION:MN
CATEGORIES:Private
END:VEVENT
BEGIN:VEVENT
DTSTART;TZID=America/Chicago:20180302T160000
DTEND;TZID=America/Chicago:20180302T190000
DTSTAMP:20260419T202707
CREATED:20180226T224211Z
LAST-MODIFIED:20180226T224211Z
UID:2029-1520006400-1520017200@chanhassenautoplex.com
SUMMARY:March Happy Hour
DESCRIPTION:Owners Only Event \nHappy Hour at the Clubhouse \nPlease bring a snack or dessert to share and B.Y.O.B. \nCan’t wait to see everyone! \nLet’s get this party started !!!!!!! \n  \nPlease sign up for future Happy Hours\, on the first Friday of every month with Sami Ugarte at sugarte1231@aol.com.
URL:https://chanhassenautoplex.com/event/march-happy-hour/
LOCATION:Chanhassen AutoPlex\, 8150 Audubon Rd\, Chanhassen\, MN\, 55317\, United States
CATEGORIES:Private
END:VEVENT
END:VCALENDAR