BEGIN:VCALENDAR
VERSION:2.0
PRODID:-//Chanhassen AutoPlex - ECPv6.15.20//NONSGML v1.0//EN
CALSCALE:GREGORIAN
METHOD:PUBLISH
X-WR-CALNAME:Chanhassen AutoPlex
X-ORIGINAL-URL:https://chanhassenautoplex.com
X-WR-CALDESC:Events for Chanhassen AutoPlex
REFRESH-INTERVAL;VALUE=DURATION:PT1H
X-Robots-Tag:noindex
X-PUBLISHED-TTL:PT1H
BEGIN:VTIMEZONE
TZID:America/Chicago
BEGIN:DAYLIGHT
TZOFFSETFROM:-0600
TZOFFSETTO:-0500
TZNAME:CDT
DTSTART:20170312T080000
END:DAYLIGHT
BEGIN:STANDARD
TZOFFSETFROM:-0500
TZOFFSETTO:-0600
TZNAME:CST
DTSTART:20171105T070000
END:STANDARD
BEGIN:DAYLIGHT
TZOFFSETFROM:-0600
TZOFFSETTO:-0500
TZNAME:CDT
DTSTART:20180311T080000
END:DAYLIGHT
BEGIN:STANDARD
TZOFFSETFROM:-0500
TZOFFSETTO:-0600
TZNAME:CST
DTSTART:20181104T070000
END:STANDARD
BEGIN:DAYLIGHT
TZOFFSETFROM:-0600
TZOFFSETTO:-0500
TZNAME:CDT
DTSTART:20190310T080000
END:DAYLIGHT
BEGIN:STANDARD
TZOFFSETFROM:-0500
TZOFFSETTO:-0600
TZNAME:CST
DTSTART:20191103T070000
END:STANDARD
END:VTIMEZONE
BEGIN:VEVENT
DTSTART;TZID=America/Chicago:20180406T160000
DTEND;TZID=America/Chicago:20180406T190000
DTSTAMP:20260422T171817
CREATED:20180305T203926Z
LAST-MODIFIED:20180307T003422Z
UID:2059-1523030400-1523041200@chanhassenautoplex.com
SUMMARY:Happy Hour with Bob & Kris
DESCRIPTION:Owners Only Event — \nCome join the fun at the Happy Hour. \nHosted by Bob and Kris Krowech at the Studebaker garage at 1720 Motorplex Ct. #H12 \nBYOB \nPlease RSVP to\n612-396-0748\nor\nkkrowech@comcast.net
URL:https://chanhassenautoplex.com/event/happy-hour-with-bob-kris/
LOCATION:Chanhassen AutoPlex\, 8150 Audubon Rd\, Chanhassen\, MN\, 55317\, United States
CATEGORIES:Private
ATTACH;FMTTYPE=image/jpeg:https://chanhassenautoplex.com/wp-content/uploads/2017/11/auto-plex-24-of-191.jpg
END:VEVENT
BEGIN:VEVENT
DTSTART;TZID=America/Chicago:20180330T160000
DTEND;TZID=America/Chicago:20180330T200000
DTSTAMP:20260422T171817
CREATED:20180226T224529Z
LAST-MODIFIED:20180305T165541Z
UID:2031-1522425600-1522440000@chanhassenautoplex.com
SUMMARY:Happy Hours are Back!
DESCRIPTION:Happy Hour Owner’s Events are back on the schedule. Please check out the Owners Section for more info on dates and times.
URL:https://chanhassenautoplex.com/event/happy-hours-are-back/
LOCATION:MN
CATEGORIES:Social
END:VEVENT
BEGIN:VEVENT
DTSTART;TZID=America/Chicago:20180313T190000
DTEND;TZID=America/Chicago:20180313T203000
DTSTAMP:20260422T171817
CREATED:20180313T160543Z
LAST-MODIFIED:20180313T160543Z
UID:2087-1520967600-1520973000@chanhassenautoplex.com
SUMMARY:Car Show Committee Meeting
DESCRIPTION:All owners are welcome to attend the Car Show Committee meeting on March 13 at 7:00 PM in the clubhouse.
URL:https://chanhassenautoplex.com/event/car-show-committee-meeting/
LOCATION:MN
CATEGORIES:Private
END:VEVENT
BEGIN:VEVENT
DTSTART;TZID=America/Chicago:20180302T160000
DTEND;TZID=America/Chicago:20180302T190000
DTSTAMP:20260422T171817
CREATED:20180226T224211Z
LAST-MODIFIED:20180226T224211Z
UID:2029-1520006400-1520017200@chanhassenautoplex.com
SUMMARY:March Happy Hour
DESCRIPTION:Owners Only Event \nHappy Hour at the Clubhouse \nPlease bring a snack or dessert to share and B.Y.O.B. \nCan’t wait to see everyone! \nLet’s get this party started !!!!!!! \n  \nPlease sign up for future Happy Hours\, on the first Friday of every month with Sami Ugarte at sugarte1231@aol.com.
URL:https://chanhassenautoplex.com/event/march-happy-hour/
LOCATION:Chanhassen AutoPlex\, 8150 Audubon Rd\, Chanhassen\, MN\, 55317\, United States
CATEGORIES:Private
END:VEVENT
END:VCALENDAR